BEGIN:VCALENDAR
VERSION:2.0
PRODID:-//wp-events-plugin.com//7.2.3.1//EN
TZID:Europe/Berlin
X-WR-TIMEZONE:Europe/Berlin
BEGIN:VEVENT
UID:42@besser-korrektur-lesen.de
DTSTART;TZID=Europe/Berlin:20171116T100000
DTEND;TZID=Europe/Berlin:20171116T180000
DTSTAMP:20200609T130110Z
URL:https://besser-korrektur-lesen.de/veranstaltungen/korrekturlesen-im-pd
 f-in-berlin-2/
SUMMARY:„Korrekturlesen im PDF“ in Berlin
DESCRIPTION:Seminar in 2 Modulen - 1. Tag: 10.00 – 18.00 Uhr - 2. Tag: 09
 .00 – 17.00 Uhr - Der Praxis-Workshop „Korrekturlesen im PDF“ nimmt 
 Ihnen die Scheu vor einem Medium\, das für diese Tätigkeit noch fremd is
 t. Denn es ist chronologisch aufgebaut: vom Erstellen des richtigen PDF un
 d der Gestaltung des Arbeitsplatzes über den Umgang mit den Kommentarwerk
 zeugen bis hin zur Weiterverarbeitung der Korrekturen durch die Grafik.\n\
 nIn diesem Workshop werden viele Beispiele aus der Praxis als Übungen auf
 gegriffen. Darin arbeiten wir uns Stück für Stück vor\, bis das Thema 
 „Korrekturlesen im PDF“ kein Reizthema mehr ist.\n\nSie erhalten umfan
 greiche Schulungsunterlagen:\n\n 	für Nachhaltigkeit sorgt der didaktisch
  aufbereitete Vortrag in schriftlicher Form mit vielen Screenshots\n 	prak
 tische Listen zum schnellen Nachschlagen\n 	Checklisten für Korrektorat u
 nd Grafik\n\nDauer des Seminars: 1 Tag (10:00–18:00 Uhr)\nTeilnehmerzahl
 : 5–10 Personen\nPreis pro Teilnehmer: 390\,00 Euro\, zzgl. MwSt.\, inkl
 usive Getränke im Schulungsraum sowie Mittagessen und Pausengetränke
CATEGORIES:Seminarreihe "Effizientes Korrekturlesen im digitalen Büro"
LOCATION:Berlin\, Deutschland
X-APPLE-STRUCTURED-LOCATION;VALUE=URI;X-ADDRESS=folgt\, Berlin\, Berlin\, D
 eutschland;X-APPLE-RADIUS=100;X-TITLE=Berlin:geo:0,0
END:VEVENT
BEGIN:VTIMEZONE
TZID:Europe/Berlin
X-LIC-LOCATION:Europe/Berlin
BEGIN:STANDARD
DTSTART:20171029T020000
TZOFFSETFROM:+0200
TZOFFSETTO:+0100
TZNAME:CET
END:STANDARD
END:VTIMEZONE
END:VCALENDAR