BEGIN:VCALENDAR
VERSION:2.0
PRODID:-//wp-events-plugin.com//7.2.3.1//EN
TZID:Europe/Berlin
X-WR-TIMEZONE:Europe/Berlin
BEGIN:VEVENT
UID:38@besser-korrektur-lesen.de
DTSTART;TZID=Europe/Berlin:20171018T100000
DTEND;TZID=Europe/Berlin:20171018T180000
DTSTAMP:20161130T095805Z
URL:https://besser-korrektur-lesen.de/veranstaltungen/strategien-fuer-effi
 zientes-korrekturlesen-in-stuttgart-2/
SUMMARY:„Strategien für effizientes Korrekturlesen“ in Stuttgart
DESCRIPTION:Seminar in 2 Modulen - 1. Tag: 10.00 – 18.00 Uhr - 2. Tag: 09
 .00 – 17.00 Uhr - Das Seminar „Strategien für effizientes Korrekturle
 sen“ vermittelt Ihnen Sicherheit beim Korrekturlesen und hat folgende Th
 emenschwerpunkte:\n\n 	Wahrnehmung\,\n 	Aufmerksamkeitstyp\,\n 	Lesegewohn
 heiten\,\n 	der Werkzeugkasten für Korrektoren\,\n 	die Korrekturzeichen\
 ,\n 	systematisches Lesen und prüfen\,\n 	Korrektursoftware\, …\,\n 	Fe
 hlerquellen aufdecken und eliminieren\,\n 	effizient Korrekturlesen.\n\nIn
  diesem Seminar werden viele Beispiele aus der Praxis aufgegriffen und auf
  die jeweilige Berufsgruppe bezogene Übungen durchgeführt.\n\nSie erhalt
 en umfangreiche Seminarunterlagen:\n\n 	für Nachhaltigkeit sorgt der dida
 ktisch aufbereitete Vortrag in schriftlicher Form\n 	praktische Listen zum
  schnellen Nachschlagen\n 	Checklisten für Korrektorat und Druck\n\nDauer
  des Seminars: 1 Tag (10:00–18:00 Uhr)\nTeilnehmerzahl: 5–10 Personen\
 nPreis pro Teilnehmer: 390\,00 Euro\, zzgl. MwSt.\, inklusive Mittagessen 
 und Pausengetränke
CATEGORIES:Seminarreihe "Effizientes Korrekturlesen im digitalen Büro"
LOCATION:Stuttgart\, Deutschland
X-APPLE-STRUCTURED-LOCATION;VALUE=URI;X-ADDRESS=folgt\, Stuttgart\, Baden-W
 ürttemberg\, Deutschland;X-APPLE-RADIUS=100;X-TITLE=Stuttgart:geo:0,0
END:VEVENT
BEGIN:VTIMEZONE
TZID:Europe/Berlin
X-LIC-LOCATION:Europe/Berlin
BEGIN:DAYLIGHT
DTSTART:20170326T030000
TZOFFSETFROM:+0100
TZOFFSETTO:+0200
TZNAME:CEST
END:DAYLIGHT
END:VTIMEZONE
END:VCALENDAR